BEGIN:VCALENDAR
VERSION:2.0
PRODID:-//西区地域子育て支援拠点スマイル・ポート - ECPv6.11.2//NONSGML v1.0//EN
CALSCALE:GREGORIAN
METHOD:PUBLISH
X-ORIGINAL-URL:https://smile-port.jp
X-WR-CALDESC:西区地域子育て支援拠点スマイル・ポート のイベント
REFRESH-INTERVAL;VALUE=DURATION:PT1H
X-Robots-Tag:noindex
X-PUBLISHED-TTL:PT1H
BEGIN:VTIMEZONE
TZID:Asia/Tokyo
BEGIN:STANDARD
TZOFFSETFROM:+0900
TZOFFSETTO:+0900
TZNAME:JST
DTSTART:20250101T000000
END:STANDARD
END:VTIMEZONE
BEGIN:VEVENT
DTSTART;VALUE=DATE:20250901
DTEND;VALUE=DATE:20250902
DTSTAMP:20260419T222743
CREATED:20250714T071849Z
LAST-MODIFIED:20250714T071849Z
UID:22104-1756684800-1756771199@smile-port.jp
SUMMARY:休館日
DESCRIPTION:
URL:https://smile-port.jp/calender/22104/
CATEGORIES:スマイル・ポートのカレンダー,休館日
END:VEVENT
BEGIN:VEVENT
DTSTART;TZID=Asia/Tokyo:20250903T100000
DTEND;TZID=Asia/Tokyo:20250903T110000
DTSTAMP:20260419T222743
CREATED:20250810T073544Z
LAST-MODIFIED:20250814T041433Z
UID:19248-1756893600-1756897200@smile-port.jp
SUMMARY:★スマイルデビューday
DESCRIPTION:スマイル・ポートを利用してみようかなというビギナーさん向けの日です。\n一人で行くのはドキドキする、2回目だけど利用の仕方を詳しく聞きたいという方に、スタッフが丁寧に説明します。プレパパママさん、赤ちゃんとのお出かけデビュー、最近近くに引っ越してきた方など、ご参加ください。 \n★初めてのご利用の方はこの日以外でも詳しく案内しますのでお気軽にお越しください。
URL:https://smile-port.jp/calender/19248/
LOCATION:スマイル・ポート ひろば
CATEGORIES:スマイル・ポートのカレンダー
ATTACH;FMTTYPE=image/jpeg:https://smile-port.jp/v2/wp-content/uploads/2025/02/pg-smiledebutday.jpg
END:VEVENT
BEGIN:VEVENT
DTSTART;TZID=Asia/Tokyo:20250904T093000
DTEND;TZID=Asia/Tokyo:20250904T113000
DTSTAMP:20260419T222743
CREATED:20250814T043926Z
LAST-MODIFIED:20250814T043926Z
UID:22933-1756978200-1756985400@smile-port.jp
SUMMARY:きっずアワー
DESCRIPTION:この時間は、2歳児以上向けのおもちゃや遊びを用意しています。\n研修コーナーを使います。\n※赤ちゃん優先コーナーはいつも通り使うことができます。
URL:https://smile-port.jp/calender/22933/
LOCATION:スマイル・ポート ひろば
CATEGORIES:スマイル・ポートのカレンダー
ATTACH;FMTTYPE=image/jpeg:https://smile-port.jp/v2/wp-content/uploads/2025/02/pg-kidshour.jpg
END:VEVENT
BEGIN:VEVENT
DTSTART;TZID=Asia/Tokyo:20250904T140000
DTEND;TZID=Asia/Tokyo:20250904T150000
DTSTAMP:20260419T222743
CREATED:20250810T030148Z
LAST-MODIFIED:20250331T030209Z
UID:19446-1756994400-1756998000@smile-port.jp
SUMMARY:保育士さんとあそぼう
DESCRIPTION:子育てひろば私立常設園「ろぜっと保育園」から保育士さんが来ます、一緒に赤ちゃん体操（つむぎ体操）をやったり、育児について不安なことを質問したりできます。
URL:https://smile-port.jp/calender/19446/
LOCATION:スマイル・ポート ひろば
CATEGORIES:スマイル・ポートのカレンダー
ATTACH;FMTTYPE=image/png:https://smile-port.jp/v2/wp-content/uploads/2024/11/pg-hoikushisan.png
END:VEVENT
BEGIN:VEVENT
DTSTART;TZID=Asia/Tokyo:20250905T100000
DTEND;TZID=Asia/Tokyo:20250905T114000
DTSTAMP:20260419T222743
CREATED:20250814T043812Z
LAST-MODIFIED:20250814T043812Z
UID:22929-1757066400-1757072400@smile-port.jp
SUMMARY:★子育てサポートシステム入会説明会
DESCRIPTION:毎月2回スマイル・ポートにて開催します。事前にお申込みください。もちろんお子さんも一緒に参加できます（小学生のお子さんはご相談ください）。
URL:https://smile-port.jp/calender/22929/
LOCATION:スマイル・ポート ひろば
CATEGORIES:スマイル・ポートのカレンダー
ATTACH;FMTTYPE=image/jpeg:https://smile-port.jp/v2/wp-content/uploads/2025/02/pg-kosaponyuukai.jpg
END:VEVENT
BEGIN:VEVENT
DTSTART;TZID=Asia/Tokyo:20250905T114500
DTEND;TZID=Asia/Tokyo:20250905T121500
DTSTAMP:20260419T222743
CREATED:20250814T045520Z
LAST-MODIFIED:20250814T045520Z
UID:22955-1757072700-1757074500@smile-port.jp
SUMMARY:エヌ・クラップパン販売の日
DESCRIPTION:「生活創造空間にし」にあるエヌ・クラップさんというパン屋さん。\n毎月おいしいパンをひろばで販売してくれます。\n※売り切れ次第終了します。\n※現金は常時利用できますが、場合によってはバーコードやカード決済が利用できる時があります。
URL:https://smile-port.jp/calender/22955/
LOCATION:スマイル・ポート ひろば
CATEGORIES:スマイル・ポートのカレンダー
ATTACH;FMTTYPE=image/png:https://smile-port.jp/v2/wp-content/uploads/2024/11/pg-nclap-pan.png
END:VEVENT
BEGIN:VEVENT
DTSTART;TZID=Asia/Tokyo:20250905T133000
DTEND;TZID=Asia/Tokyo:20250905T143000
DTSTAMP:20260419T222743
CREATED:20250810T060442Z
LAST-MODIFIED:20250814T041652Z
UID:19212-1757079000-1757082600@smile-port.jp
SUMMARY:★はじめてのベビーマッサージ
DESCRIPTION:オイルを使わないベビーマッサージです。ママもお子さんもみんなでリフレッシュしましょう。\nお子さんは動きやすい飾りのない服装でご参加ください。
URL:https://smile-port.jp/calender/19212/
LOCATION:スマイル・ポート ひろば
CATEGORIES:スマイル・ポートのカレンダー
ATTACH;FMTTYPE=image/png:https://smile-port.jp/v2/wp-content/uploads/2024/11/pg-baby-massage.png
END:VEVENT
BEGIN:VEVENT
DTSTART;VALUE=DATE:20250907
DTEND;VALUE=DATE:20250908
DTSTAMP:20260419T222743
CREATED:20250820T035417Z
LAST-MODIFIED:20250820T035417Z
UID:23082-1757203200-1757289599@smile-port.jp
SUMMARY:休館日
DESCRIPTION:
URL:https://smile-port.jp/calender/23082/
CATEGORIES:スマイル・ポートのカレンダー,休館日
END:VEVENT
BEGIN:VEVENT
DTSTART;VALUE=DATE:20250908
DTEND;VALUE=DATE:20250909
DTSTAMP:20260419T222743
CREATED:20250820T035440Z
LAST-MODIFIED:20250820T035440Z
UID:23084-1757289600-1757375999@smile-port.jp
SUMMARY:休館日
DESCRIPTION:
URL:https://smile-port.jp/calender/23084/
CATEGORIES:スマイル・ポートのカレンダー,休館日
END:VEVENT
BEGIN:VEVENT
DTSTART;TZID=Asia/Tokyo:20250910T103000
DTEND;TZID=Asia/Tokyo:20250910T113000
DTSTAMP:20260419T222743
CREATED:20250810T022011Z
LAST-MODIFIED:20250814T041838Z
UID:19405-1757500200-1757503800@smile-port.jp
SUMMARY:★双子ちゃん三つ子ちゃんイベント
DESCRIPTION:楽しいことや大変なことなどを一緒にお話しして、お友だちとつながりましょう。\nプレパパママさんも大歓迎！\n9月は「おしゃべりの会」です。
URL:https://smile-port.jp/calender/19405/
LOCATION:スマイル・ポート ひろば
CATEGORIES:スマイル・ポートのカレンダー
ATTACH;FMTTYPE=image/jpeg:https://smile-port.jp/v2/wp-content/uploads/2025/02/pg-futagomitugo.jpg
END:VEVENT
BEGIN:VEVENT
DTSTART;TZID=Asia/Tokyo:20250910T133000
DTEND;TZID=Asia/Tokyo:20250910T153000
DTSTAMP:20260419T222743
CREATED:20250814T042020Z
LAST-MODIFIED:20250814T042020Z
UID:22916-1757511000-1757518200@smile-port.jp
SUMMARY:★保育・教育コンシェルジュさんの相談日（個別相談）
DESCRIPTION:保育園に通わせたいけど保育園のことが分からないという方。西区保育・教育コンシェルジュさんがスマイル・ポートで保育園についての個別相談をしてくれます。1組25分程度の個別相談会です。
URL:https://smile-port.jp/calender/22916/
LOCATION:スマイル・ポート ひろば
CATEGORIES:スマイル・ポートのカレンダー
ATTACH;FMTTYPE=image/jpeg:https://smile-port.jp/v2/wp-content/uploads/2025/02/pg-konnsherujyu.jpg
END:VEVENT
BEGIN:VEVENT
DTSTART;TZID=Asia/Tokyo:20250911T100000
DTEND;TZID=Asia/Tokyo:20250911T113000
DTSTAMP:20260419T222743
CREATED:20250810T073417Z
LAST-MODIFIED:20250814T042135Z
UID:20359-1757584800-1757590200@smile-port.jp
SUMMARY:★ダブルケアカフェ
DESCRIPTION:「ダブルケア」という言葉を聞いたことありますか？\nダブルケアとは、育児や介護や看護など、複数のケアを同時に行っている状態のことを言います。\n「ダブルケア」について一緒にお話ししましょう。もしかしたら自分も当てはまるかな？と思った方や、ご興味ある方はぜひご参加ください。\nダブルケア支援活動をしているダブルケアサポートの植木さんが来てくれます。今不安に感じていることも質問できますよ。
URL:https://smile-port.jp/calender/20359/
LOCATION:スマイル・ポート ひろば
CATEGORIES:スマイル・ポートのカレンダー
ATTACH;FMTTYPE=image/png:https://smile-port.jp/v2/wp-content/uploads/2024/08/pg-wcare-cafe.png
END:VEVENT
BEGIN:VEVENT
DTSTART;TZID=Asia/Tokyo:20250911T133000
DTEND;TZID=Asia/Tokyo:20250911T143000
DTSTAMP:20260419T222743
CREATED:20250814T044041Z
LAST-MODIFIED:20250814T044041Z
UID:22937-1757597400-1757601000@smile-port.jp
SUMMARY:子育てパートナーとおしゃべりしよう！
DESCRIPTION:お子さんのこと、ご自分のことなどいろいろとおしゃべりしてすっきりしませんか？
URL:https://smile-port.jp/calender/22937/
LOCATION:スマイル・ポート ひろば
CATEGORIES:スマイル・ポートのカレンダー
ATTACH;FMTTYPE=image/jpeg:https://smile-port.jp/v2/wp-content/uploads/2025/02/pg-partneroshaberi.jpg
END:VEVENT
BEGIN:VEVENT
DTSTART;TZID=Asia/Tokyo:20250912T100000
DTEND;TZID=Asia/Tokyo:20250912T120000
DTSTAMP:20260419T222743
CREATED:20250810T022541Z
LAST-MODIFIED:20250814T042410Z
UID:19417-1757671200-1757678400@smile-port.jp
SUMMARY:★助産師さんの相談日（グループ相談後個別相談）
DESCRIPTION:母乳から卒乳のこと、ご自身の体調のことなど心配なことがあったら何でも相談にのってくれる助産師さんです。不安なことがあったら何でも聞いてみてください。\nプレパパママさんの相談もOKですよ。
URL:https://smile-port.jp/calender/19417/
LOCATION:スマイル・ポート ひろば
CATEGORIES:スマイル・ポートのカレンダー
ATTACH;FMTTYPE=image/jpeg:https://smile-port.jp/v2/wp-content/uploads/2025/02/pg-jyosannshi.jpg
END:VEVENT
BEGIN:VEVENT
DTSTART;TZID=Asia/Tokyo:20250913T103000
DTEND;TZID=Asia/Tokyo:20250913T113000
DTSTAMP:20260419T222743
CREATED:20250703T072324Z
LAST-MODIFIED:20250703T072324Z
UID:21870-1757759400-1757763000@smile-port.jp
SUMMARY:パパおいで
DESCRIPTION:「他のパパもいたらいいな～」というパパたちの声から始まった 「パパおいで」の日。毎月平日と土曜日の月2回開催します。
URL:https://smile-port.jp/calender/21870/
LOCATION:スマイル・ポート ひろば
CATEGORIES:スマイル・ポートのカレンダー
ATTACH;FMTTYPE=image/jpeg:https://smile-port.jp/v2/wp-content/uploads/2025/02/pg-papaoide.jpg
END:VEVENT
BEGIN:VEVENT
DTSTART;VALUE=DATE:20250914
DTEND;VALUE=DATE:20250915
DTSTAMP:20260419T222743
CREATED:20250820T035459Z
LAST-MODIFIED:20250820T035459Z
UID:23086-1757808000-1757894399@smile-port.jp
SUMMARY:休館日
DESCRIPTION:
URL:https://smile-port.jp/calender/23086/
CATEGORIES:スマイル・ポートのカレンダー,休館日
END:VEVENT
BEGIN:VEVENT
DTSTART;VALUE=DATE:20250915
DTEND;VALUE=DATE:20250916
DTSTAMP:20260419T222743
CREATED:20250820T040254Z
LAST-MODIFIED:20250820T040254Z
UID:23098-1757894400-1757980799@smile-port.jp
SUMMARY:休館日
DESCRIPTION:
URL:https://smile-port.jp/calender/23098/
CATEGORIES:スマイル・ポートのカレンダー,休館日
END:VEVENT
BEGIN:VEVENT
DTSTART;TZID=Asia/Tokyo:20250917T093000
DTEND;TZID=Asia/Tokyo:20250917T110000
DTSTAMP:20260419T222743
CREATED:20250814T044943Z
LAST-MODIFIED:20250814T044943Z
UID:22953-1758101400-1758106800@smile-port.jp
SUMMARY:※ひろば縮小※
DESCRIPTION:区の事業開催（赤ちゃん教室）のため、ひろばの利用が縮小されます。
URL:https://smile-port.jp/calender/22953/
LOCATION:スマイル・ポート ひろば
CATEGORIES:スマイル・ポートのカレンダー
END:VEVENT
BEGIN:VEVENT
DTSTART;TZID=Asia/Tokyo:20250917T130000
DTEND;TZID=Asia/Tokyo:20250917T150000
DTSTAMP:20260419T222743
CREATED:20250814T044005Z
LAST-MODIFIED:20250814T044005Z
UID:22935-1758114000-1758121200@smile-port.jp
SUMMARY:きっずアワー
DESCRIPTION:この時間は、2歳児以上向けのおもちゃや遊びを用意しています。\n研修コーナーを使います。\n※赤ちゃん優先コーナーはいつも通り使うことができます。
URL:https://smile-port.jp/calender/22935/
LOCATION:スマイル・ポート ひろば
CATEGORIES:スマイル・ポートのカレンダー
ATTACH;FMTTYPE=image/jpeg:https://smile-port.jp/v2/wp-content/uploads/2025/02/pg-kidshour.jpg
END:VEVENT
BEGIN:VEVENT
DTSTART;TZID=Asia/Tokyo:20250918T103000
DTEND;TZID=Asia/Tokyo:20250918T113000
DTSTAMP:20260419T222743
CREATED:20250810T062543Z
LAST-MODIFIED:20250814T042619Z
UID:19544-1758191400-1758195000@smile-port.jp
SUMMARY:★図書館にいってみよう！
DESCRIPTION:「図書館はどんなところ？」「絵本の選び方は？」\nみんなで一緒に図書館へ行って詳しい説明を聞いてみよう！司書さんによる読み聞かせもあります。
URL:https://smile-port.jp/calender/19544/
LOCATION:中央図書館\, 西区老松町1\, 横浜市
CATEGORIES:スマイル・ポートのカレンダー
ATTACH;FMTTYPE=image/jpeg:https://smile-port.jp/v2/wp-content/uploads/2025/02/pg-toshoittemiyou-.jpg
END:VEVENT
BEGIN:VEVENT
DTSTART;TZID=Asia/Tokyo:20250920T100000
DTEND;TZID=Asia/Tokyo:20250920T113000
DTSTAMP:20260419T222743
CREATED:20250408T023505Z
LAST-MODIFIED:20250814T052741Z
UID:20076-1758362400-1758367800@smile-port.jp
SUMMARY:★おしゃべりの会～サポートが必要なお子さんとその家族の会
DESCRIPTION:サポートが必要なお子さんを育てている家族同士が情報交換できる会です。こんな時はどうしているの？幼稚園・保育園・\n学校のことなど。知りたいことが聞けてみんなでおしゃべりができます。 \n今回は長い間小学校の個別支援級に携わってきた先生をお招きします。就学について一緒にお話ししましょう。
URL:https://smile-port.jp/calender/20076/
LOCATION:戸部本町地域ケアプラザ\, 西区戸部本町50-33
CATEGORIES:スマイル・ポートのカレンダー
END:VEVENT
BEGIN:VEVENT
DTSTART;TZID=Asia/Tokyo:20250920T100000
DTEND;TZID=Asia/Tokyo:20250920T114000
DTSTAMP:20260419T222743
CREATED:20250814T043846Z
LAST-MODIFIED:20250814T043846Z
UID:22931-1758362400-1758368400@smile-port.jp
SUMMARY:★子育てサポートシステム入会説明会
DESCRIPTION:毎月2回スマイル・ポートにて開催します。事前にお申込みください。もちろんお子さんも一緒に参加できます（小学生のお子さんはご相談ください）。
URL:https://smile-port.jp/calender/22931/
LOCATION:スマイル・ポート ひろば
CATEGORIES:スマイル・ポートのカレンダー
ATTACH;FMTTYPE=image/jpeg:https://smile-port.jp/v2/wp-content/uploads/2025/02/pg-kosaponyuukai.jpg
END:VEVENT
BEGIN:VEVENT
DTSTART;VALUE=DATE:20250921
DTEND;VALUE=DATE:20250922
DTSTAMP:20260419T222743
CREATED:20250820T035523Z
LAST-MODIFIED:20250820T035614Z
UID:23088-1758412800-1758499199@smile-port.jp
SUMMARY:休館日
DESCRIPTION:
URL:https://smile-port.jp/calender/23088/
CATEGORIES:スマイル・ポートのカレンダー,休館日
END:VEVENT
BEGIN:VEVENT
DTSTART;VALUE=DATE:20250922
DTEND;VALUE=DATE:20250923
DTSTAMP:20260419T222743
CREATED:20250820T035630Z
LAST-MODIFIED:20250820T035630Z
UID:23090-1758499200-1758585599@smile-port.jp
SUMMARY:休館日
DESCRIPTION:
URL:https://smile-port.jp/calender/23090/
CATEGORIES:スマイル・ポートのカレンダー,休館日
END:VEVENT
BEGIN:VEVENT
DTSTART;VALUE=DATE:20250923
DTEND;VALUE=DATE:20250924
DTSTAMP:20260419T222743
CREATED:20250820T040016Z
LAST-MODIFIED:20260330T025812Z
UID:23096-1758585600-1758671999@smile-port.jp
SUMMARY:【祝日　秋分の日】　休館日
DESCRIPTION:
URL:https://smile-port.jp/calender/23096/
CATEGORIES:スマイル・ポートのカレンダー,地域へお出かけカレンダー,休館日,祝日
END:VEVENT
BEGIN:VEVENT
DTSTART;VALUE=DATE:20250924
DTEND;VALUE=DATE:20250925
DTSTAMP:20260419T222743
CREATED:20250917T032147Z
LAST-MODIFIED:20250917T032147Z
UID:23388-1758672000-1758758399@smile-port.jp
SUMMARY:Happy Birthday Week（～30日）
DESCRIPTION:お昼の会とお帰りの会の2回、その月にお誕生日を迎えるお子さんをみんなでお祝いしましょう。\nウィーク中は何度でも参加可能です。
URL:https://smile-port.jp/calender/23388/
LOCATION:スマイル・ポート ひろば
CATEGORIES:スマイル・ポートのカレンダー
ATTACH;FMTTYPE=image/jpeg:https://smile-port.jp/v2/wp-content/uploads/2025/02/pg-happybirthday.jpg
END:VEVENT
BEGIN:VEVENT
DTSTART;TZID=Asia/Tokyo:20250924T100000
DTEND;TZID=Asia/Tokyo:20250924T103000
DTSTAMP:20260419T222743
CREATED:20250814T043134Z
LAST-MODIFIED:20250814T043134Z
UID:22923-1758708000-1758709800@smile-port.jp
SUMMARY:★親子で英語リトミック①
DESCRIPTION:赤ちゃんから参加できる楽しいプログラムです。\nエレクトーンの生演奏に合わせて英語の歌を歌ったり、手遊びをしたりします。\n親子で動きますので動きやすい服装でご参加ください。\n推奨年齢は6か月～です。
URL:https://smile-port.jp/calender/22923/
LOCATION:スマイル・ポート ひろば
CATEGORIES:スマイル・ポートのカレンダー
ATTACH;FMTTYPE=image/jpeg:https://smile-port.jp/v2/wp-content/uploads/2025/02/pg-oyakodeeigo.jpg
END:VEVENT
BEGIN:VEVENT
DTSTART;TZID=Asia/Tokyo:20250924T100000
DTEND;TZID=Asia/Tokyo:20250924T110000
DTSTAMP:20260419T222743
CREATED:20250814T044324Z
LAST-MODIFIED:20250814T044324Z
UID:22939-1758708000-1758711600@smile-port.jp
SUMMARY:あつまれ！さぽーたーさん＆さぽーたん
DESCRIPTION:スマイル・ポートで活動のお手伝い（身体測定やひろば装飾など）をしていただける方を幅広く募集しています。\nひとりでも仲間でもゆるやかに親子で楽しく参加できるサポーター活動です。活動の参加は都合のつく時だけで大丈夫です。
URL:https://smile-port.jp/calender/22939/
LOCATION:スマイル・ポート ひろば
CATEGORIES:スマイル・ポートのカレンダー
ATTACH;FMTTYPE=image/jpeg:https://smile-port.jp/v2/wp-content/uploads/2025/02/pg-sapo-tan.jpg
END:VEVENT
BEGIN:VEVENT
DTSTART;TZID=Asia/Tokyo:20250924T133000
DTEND;TZID=Asia/Tokyo:20250924T143000
DTSTAMP:20260419T222743
CREATED:20250703T072215Z
LAST-MODIFIED:20250703T072215Z
UID:21866-1758720600-1758724200@smile-port.jp
SUMMARY:パパおいで
DESCRIPTION:「他のパパもいたらいいな～」というパパたちの声から始まった 「パパおいで」の日。毎月平日と土曜日の月2回開催します。
URL:https://smile-port.jp/calender/21866/
LOCATION:スマイル・ポート ひろば
CATEGORIES:スマイル・ポートのカレンダー
ATTACH;FMTTYPE=image/jpeg:https://smile-port.jp/v2/wp-content/uploads/2025/02/pg-papaoide.jpg
END:VEVENT
BEGIN:VEVENT
DTSTART;TZID=Asia/Tokyo:20250924T133000
DTEND;TZID=Asia/Tokyo:20250924T153000
DTSTAMP:20260419T222743
CREATED:20250814T044441Z
LAST-MODIFIED:20250814T044441Z
UID:22941-1758720600-1758727800@smile-port.jp
SUMMARY:★保育・教育コンシェルジュさんの相談日（個別相談）
DESCRIPTION:保育園に通わせたいけど保育園のことが分からないという方。西区保育・教育コンシェルジュさんがスマイル・ポートで保育園についての個別相談をしてくれます。1組25分程度の個別相談会です。
URL:https://smile-port.jp/calender/22941/
LOCATION:スマイル・ポート ひろば
CATEGORIES:スマイル・ポートのカレンダー
ATTACH;FMTTYPE=image/jpeg:https://smile-port.jp/v2/wp-content/uploads/2025/02/pg-konnsherujyu.jpg
END:VEVENT
END:VCALENDAR