BEGIN:VCALENDAR
VERSION:2.0
PRODID:-//西区地域子育て支援拠点スマイル・ポート - ECPv6.11.2//NONSGML v1.0//EN
CALSCALE:GREGORIAN
METHOD:PUBLISH
X-ORIGINAL-URL:https://smile-port.jp
X-WR-CALDESC:西区地域子育て支援拠点スマイル・ポート のイベント
REFRESH-INTERVAL;VALUE=DURATION:PT1H
X-Robots-Tag:noindex
X-PUBLISHED-TTL:PT1H
BEGIN:VTIMEZONE
TZID:Asia/Tokyo
BEGIN:STANDARD
TZOFFSETFROM:+0900
TZOFFSETTO:+0900
TZNAME:JST
DTSTART:20250101T000000
END:STANDARD
END:VTIMEZONE
BEGIN:VEVENT
DTSTART;TZID=Asia/Tokyo:20250801T100000
DTEND;TZID=Asia/Tokyo:20250801T114000
DTSTAMP:20260419T235034
CREATED:20250714T075718Z
LAST-MODIFIED:20250714T075718Z
UID:22138-1754042400-1754048400@smile-port.jp
SUMMARY:★子育てサポートシステム入会説明会
DESCRIPTION:毎月2回スマイル・ポートにて開催します。事前にお申込みください。もちろんお子さんも一緒に参加できます（小学生のお子さんはご相談ください）。
URL:https://smile-port.jp/calender/22138/
LOCATION:スマイル・ポート ひろば
CATEGORIES:スマイル・ポートのカレンダー
ATTACH;FMTTYPE=image/jpeg:https://smile-port.jp/v2/wp-content/uploads/2025/02/pg-kosaponyuukai.jpg
END:VEVENT
BEGIN:VEVENT
DTSTART;TZID=Asia/Tokyo:20250801T114500
DTEND;TZID=Asia/Tokyo:20250801T121500
DTSTAMP:20260419T235034
CREATED:20250714T070828Z
LAST-MODIFIED:20250714T070828Z
UID:22079-1754048700-1754050500@smile-port.jp
SUMMARY:エヌ・クラップパン販売の日
DESCRIPTION:「生活創造空間にし」にあるエヌ・クラップさんというパン屋さん。\n毎月おいしいパンをひろばで販売してくれます。\n※売り切れ次第終了します。\n※現金は常時利用できますが、場合によってはバーコードやカード決済が利用できる時があります。
URL:https://smile-port.jp/calender/22079/
LOCATION:スマイル・ポート ひろば
CATEGORIES:スマイル・ポートのカレンダー
ATTACH;FMTTYPE=image/png:https://smile-port.jp/v2/wp-content/uploads/2024/11/pg-nclap-pan.png
END:VEVENT
BEGIN:VEVENT
DTSTART;TZID=Asia/Tokyo:20250802T103000
DTEND;TZID=Asia/Tokyo:20250802T113000
DTSTAMP:20260419T235034
CREATED:20250616T064716Z
LAST-MODIFIED:20250712T051825Z
UID:21482-1754130600-1754134200@smile-port.jp
SUMMARY:★親子でかづとくんとあそぼう！＆こそだてしゃべりば
DESCRIPTION:小沢かづとさん（シンガーソングあそびライター）をお招きして親子でいっぱいスキンシップを楽しみます。日頃の子育てについてもおしゃべりしましょう！ \n※ひろばは通常通り開いていますが縮小しています。
URL:https://smile-port.jp/calender/21482/
LOCATION:スマイル・ポート ひろば
CATEGORIES:スマイル・ポートのカレンダー
ATTACH;FMTTYPE=image/jpeg:https://smile-port.jp/v2/wp-content/uploads/2025/06/kadutokun.jpg
END:VEVENT
BEGIN:VEVENT
DTSTART;VALUE=DATE:20250803
DTEND;VALUE=DATE:20250804
DTSTAMP:20260419T235034
CREATED:20250628T072512Z
LAST-MODIFIED:20250628T072512Z
UID:21778-1754179200-1754265599@smile-port.jp
SUMMARY:休館日
DESCRIPTION:
URL:https://smile-port.jp/calender/21778/
CATEGORIES:スマイル・ポートのカレンダー,休館日
END:VEVENT
BEGIN:VEVENT
DTSTART;VALUE=DATE:20250804
DTEND;VALUE=DATE:20250805
DTSTAMP:20260419T235034
CREATED:20250714T071618Z
LAST-MODIFIED:20250714T071618Z
UID:22086-1754265600-1754351999@smile-port.jp
SUMMARY:休館日
DESCRIPTION:
URL:https://smile-port.jp/calender/22086/
CATEGORIES:スマイル・ポートのカレンダー,休館日
END:VEVENT
BEGIN:VEVENT
DTSTART;TZID=Asia/Tokyo:20250805T093000
DTEND;TZID=Asia/Tokyo:20250805T113000
DTSTAMP:20260419T235034
CREATED:20250714T073516Z
LAST-MODIFIED:20250714T073516Z
UID:22121-1754386200-1754393400@smile-port.jp
SUMMARY:きっずアワー
DESCRIPTION:この時間は、2歳児以上向けのおもちゃや遊びを用意しています。\n研修コーナーを使います。\n※赤ちゃん優先コーナーはいつも通り使うことができます。
URL:https://smile-port.jp/calender/22121/
LOCATION:スマイル・ポート ひろば
CATEGORIES:スマイル・ポートのカレンダー
ATTACH;FMTTYPE=image/jpeg:https://smile-port.jp/v2/wp-content/uploads/2025/02/pg-kidshour.jpg
END:VEVENT
BEGIN:VEVENT
DTSTART;TZID=Asia/Tokyo:20250806T100000
DTEND;TZID=Asia/Tokyo:20250806T110000
DTSTAMP:20260419T235034
CREATED:20250710T073506Z
LAST-MODIFIED:20250714T071324Z
UID:19246-1754474400-1754478000@smile-port.jp
SUMMARY:★スマイルデビューday
DESCRIPTION:スマイル・ポートを利用してみようかなというビギナーさん向けの日です。\n一人で行くのはドキドキする、2回目だけど利用の仕方を詳しく聞きたいという方に、スタッフが丁寧に説明します。プレパパママさん、赤ちゃんとのお出かけデビュー、最近近くに引っ越してきた方など、ご参加ください。 \n★初めてのご利用の方はこの日以外でも詳しく案内しますのでお気軽にお越しください。
URL:https://smile-port.jp/calender/19246/
LOCATION:スマイル・ポート ひろば
CATEGORIES:スマイル・ポートのカレンダー
ATTACH;FMTTYPE=image/jpeg:https://smile-port.jp/v2/wp-content/uploads/2025/02/pg-smiledebutday.jpg
END:VEVENT
BEGIN:VEVENT
DTSTART;TZID=Asia/Tokyo:20250807T100000
DTEND;TZID=Asia/Tokyo:20250807T113000
DTSTAMP:20260419T235034
CREATED:20250715T054631Z
LAST-MODIFIED:20250731T005256Z
UID:22148-1754560800-1754566200@smile-port.jp
SUMMARY:小学生の赤ちゃんお世話体験
DESCRIPTION:夏休みの体験プログラムで、小学４年生～6年生の子どもたちが赤ちゃんのお世話体験に来ます。\n小学生と一緒に交流しましょう。 \n  \n主催\n教育委員会事務局教育政策統括部生涯学習文化財課\n電話：045-671-3282\nファクス：045-224-5863\nメールアドレス：ky-adventure@city.yokohama.lg.jp
URL:https://smile-port.jp/calender/22148/
LOCATION:スマイル・ポート ひろば
CATEGORIES:スマイル・ポートのカレンダー
ATTACH;FMTTYPE=image/jpeg:https://smile-port.jp/v2/wp-content/uploads/2025/05/adventurecollegelogo202506.jpg
END:VEVENT
BEGIN:VEVENT
DTSTART;TZID=Asia/Tokyo:20250807T133000
DTEND;TZID=Asia/Tokyo:20250807T150000
DTSTAMP:20260419T235034
CREATED:20250715T054708Z
LAST-MODIFIED:20250731T005317Z
UID:22150-1754573400-1754578800@smile-port.jp
SUMMARY:小学生の赤ちゃんお世話体験
DESCRIPTION:夏休みの体験プログラムで、小学４年生～6年生の子どもたちが赤ちゃんのお世話体験に来ます。\n小学生と一緒に交流しましょう。 \n  \n主催\n教育委員会事務局教育政策統括部生涯学習文化財課\n電話：045-671-3282\nファクス：045-224-5863\nメールアドレス：ky-adventure@city.yokohama.lg.jp
URL:https://smile-port.jp/calender/22150/
LOCATION:スマイル・ポート ひろば
CATEGORIES:スマイル・ポートのカレンダー
ATTACH;FMTTYPE=image/jpeg:https://smile-port.jp/v2/wp-content/uploads/2025/05/adventurecollegelogo202506.jpg
END:VEVENT
BEGIN:VEVENT
DTSTART;TZID=Asia/Tokyo:20250808T100000
DTEND;TZID=Asia/Tokyo:20250808T120000
DTSTAMP:20260419T235034
CREATED:20250710T022519Z
LAST-MODIFIED:20250714T071508Z
UID:19415-1754647200-1754654400@smile-port.jp
SUMMARY:★助産師さんの相談日（グループ相談後個別相談）
DESCRIPTION:母乳から卒乳のこと、ご自身の体調のことなど心配なことがあったら何でも相談にのってくれる助産師さんです。不安なことがあったら何でも聞いてみてください。\nプレパパママさんの相談もOKですよ。
URL:https://smile-port.jp/calender/19415/
LOCATION:スマイル・ポート ひろば
CATEGORIES:スマイル・ポートのカレンダー
ATTACH;FMTTYPE=image/jpeg:https://smile-port.jp/v2/wp-content/uploads/2025/02/pg-jyosannshi.jpg
END:VEVENT
BEGIN:VEVENT
DTSTART;TZID=Asia/Tokyo:20250808T133000
DTEND;TZID=Asia/Tokyo:20250808T143000
DTSTAMP:20260419T235034
CREATED:20250714T075434Z
LAST-MODIFIED:20250714T075434Z
UID:22134-1754659800-1754663400@smile-port.jp
SUMMARY:子育てパートナーとおしゃべりしよう！
DESCRIPTION:お子さんのこと、ご自分のことなどいろいろとおしゃべりしてすっきりしませんか？
URL:https://smile-port.jp/calender/22134/
LOCATION:スマイル・ポート ひろば
CATEGORIES:スマイル・ポートのカレンダー
ATTACH;FMTTYPE=image/jpeg:https://smile-port.jp/v2/wp-content/uploads/2025/02/pg-partneroshaberi.jpg
END:VEVENT
BEGIN:VEVENT
DTSTART;TZID=Asia/Tokyo:20250809T113000
DTEND;TZID=Asia/Tokyo:20250809T115000
DTSTAMP:20260419T235034
CREATED:20250731T151730Z
LAST-MODIFIED:20250731T151819Z
UID:22555-1754739000-1754740200@smile-port.jp
SUMMARY:大学生の読み聞かせタイム
DESCRIPTION:
URL:https://smile-port.jp/calender/22555/
CATEGORIES:スマイル・ポートのカレンダー
END:VEVENT
BEGIN:VEVENT
DTSTART;TZID=Asia/Tokyo:20250809T133000
DTEND;TZID=Asia/Tokyo:20250809T143000
DTSTAMP:20260419T235034
CREATED:20250703T072010Z
LAST-MODIFIED:20250703T072140Z
UID:21864-1754746200-1754749800@smile-port.jp
SUMMARY:パパおいで
DESCRIPTION:「他のパパもいたらいいな～」というパパたちの声から始まった 「パパおいで」の日。毎月平日と土曜日の月2回開催します。
URL:https://smile-port.jp/calender/21864/
LOCATION:スマイル・ポート ひろば
CATEGORIES:スマイル・ポートのカレンダー
ATTACH;FMTTYPE=image/jpeg:https://smile-port.jp/v2/wp-content/uploads/2025/02/pg-papaoide.jpg
END:VEVENT
BEGIN:VEVENT
DTSTART;VALUE=DATE:20250810
DTEND;VALUE=DATE:20250811
DTSTAMP:20260419T235034
CREATED:20250714T071639Z
LAST-MODIFIED:20250714T071639Z
UID:22088-1754784000-1754870399@smile-port.jp
SUMMARY:休館日
DESCRIPTION:
URL:https://smile-port.jp/calender/22088/
CATEGORIES:スマイル・ポートのカレンダー,休館日
END:VEVENT
BEGIN:VEVENT
DTSTART;VALUE=DATE:20250811
DTEND;VALUE=DATE:20250812
DTSTAMP:20260419T235034
CREATED:20250714T071652Z
LAST-MODIFIED:20250714T071652Z
UID:22090-1754870400-1754956799@smile-port.jp
SUMMARY:休館日
DESCRIPTION:
URL:https://smile-port.jp/calender/22090/
CATEGORIES:スマイル・ポートのカレンダー,休館日
END:VEVENT
BEGIN:VEVENT
DTSTART;VALUE=DATE:20250812
DTEND;VALUE=DATE:20250813
DTSTAMP:20260419T235034
CREATED:20250714T071705Z
LAST-MODIFIED:20250714T071705Z
UID:22092-1754956800-1755043199@smile-port.jp
SUMMARY:休館日
DESCRIPTION:
URL:https://smile-port.jp/calender/22092/
CATEGORIES:スマイル・ポートのカレンダー,休館日
END:VEVENT
BEGIN:VEVENT
DTSTART;TZID=Asia/Tokyo:20250813T133000
DTEND;TZID=Asia/Tokyo:20250813T153000
DTSTAMP:20260419T235034
CREATED:20250714T072419Z
LAST-MODIFIED:20250714T072419Z
UID:22108-1755091800-1755099000@smile-port.jp
SUMMARY:★保育・教育コンシェルジュさんの相談日（個別相談）
DESCRIPTION:保育園に通わせたいけど保育園のことが分からないという方。西区保育・教育コンシェルジュさんがスマイル・ポートで保育園についての個別相談をしてくれます。1組25分程度の個別相談会です。
URL:https://smile-port.jp/calender/22108/
LOCATION:スマイル・ポート ひろば
CATEGORIES:スマイル・ポートのカレンダー
ATTACH;FMTTYPE=image/jpeg:https://smile-port.jp/v2/wp-content/uploads/2025/02/pg-konnsherujyu.jpg
END:VEVENT
BEGIN:VEVENT
DTSTART;TZID=Asia/Tokyo:20250816T100000
DTEND;TZID=Asia/Tokyo:20250816T114000
DTSTAMP:20260419T235034
CREATED:20250714T075742Z
LAST-MODIFIED:20250714T075742Z
UID:22140-1755338400-1755344400@smile-port.jp
SUMMARY:★子育てサポートシステム入会説明会
DESCRIPTION:毎月2回スマイル・ポートにて開催します。事前にお申込みください。もちろんお子さんも一緒に参加できます（小学生のお子さんはご相談ください）。
URL:https://smile-port.jp/calender/22140/
LOCATION:スマイル・ポート ひろば
CATEGORIES:スマイル・ポートのカレンダー
ATTACH;FMTTYPE=image/jpeg:https://smile-port.jp/v2/wp-content/uploads/2025/02/pg-kosaponyuukai.jpg
END:VEVENT
BEGIN:VEVENT
DTSTART;VALUE=DATE:20250817
DTEND;VALUE=DATE:20250818
DTSTAMP:20260419T235034
CREATED:20250714T071721Z
LAST-MODIFIED:20250714T071721Z
UID:22094-1755388800-1755475199@smile-port.jp
SUMMARY:休館日
DESCRIPTION:
URL:https://smile-port.jp/calender/22094/
CATEGORIES:スマイル・ポートのカレンダー,休館日
END:VEVENT
BEGIN:VEVENT
DTSTART;VALUE=DATE:20250818
DTEND;VALUE=DATE:20250819
DTSTAMP:20260419T235034
CREATED:20250714T071735Z
LAST-MODIFIED:20250714T071735Z
UID:22096-1755475200-1755561599@smile-port.jp
SUMMARY:休館日
DESCRIPTION:
URL:https://smile-port.jp/calender/22096/
CATEGORIES:スマイル・ポートのカレンダー,休館日
END:VEVENT
BEGIN:VEVENT
DTSTART;TZID=Asia/Tokyo:20250819T140000
DTEND;TZID=Asia/Tokyo:20250819T144000
DTSTAMP:20260419T235034
CREATED:20250710T050041Z
LAST-MODIFIED:20250714T072905Z
UID:19499-1755612000-1755614400@smile-port.jp
SUMMARY:★親子ふれあいあそび
DESCRIPTION:親子で向き合う時間を大切にするイベントです。音や視覚、手触りなどの感覚を刺激する遊びをします。親子でスキンシップしながら楽しみませんか？
URL:https://smile-port.jp/calender/19499/
LOCATION:スマイル・ポート ひろば
CATEGORIES:スマイル・ポートのカレンダー
ATTACH;FMTTYPE=image/jpeg:https://smile-port.jp/v2/wp-content/uploads/2025/02/pg-fureai.jpg
END:VEVENT
BEGIN:VEVENT
DTSTART;TZID=Asia/Tokyo:20250820T133000
DTEND;TZID=Asia/Tokyo:20250820T143000
DTSTAMP:20260419T235034
CREATED:20250710T013608Z
LAST-MODIFIED:20250714T072757Z
UID:19389-1755696600-1755700200@smile-port.jp
SUMMARY:★栄養士さんの相談日
DESCRIPTION:離乳食で困っている方向けの相談日です。栄養士さんが来て、みなさんの不安や悩みに答えてくれます。お気軽にご参加ください。
URL:https://smile-port.jp/calender/19389/
LOCATION:スマイル・ポート ひろば
CATEGORIES:スマイル・ポートのカレンダー
ATTACH;FMTTYPE=image/jpeg:https://smile-port.jp/v2/wp-content/uploads/2025/02/pg-eiyoushi.jpg
END:VEVENT
BEGIN:VEVENT
DTSTART;TZID=Asia/Tokyo:20250822T101500
DTEND;TZID=Asia/Tokyo:20250822T111500
DTSTAMP:20260419T235034
CREATED:20250710T063625Z
LAST-MODIFIED:20250331T063642Z
UID:19564-1755857700-1755861300@smile-port.jp
SUMMARY:やさしい日本語（にほんご）でおしゃべり
DESCRIPTION:外国（がいこく）の方（かた）とその家族（かぞく）のためのイベントです。\nやさしい日本語（にほんご）でおりがみをしたり、歌（うた）をうたったりするプログラムです。 \n※毎月第４金曜日に開催（まいつきだいよんきんようびにかいさい）
URL:https://smile-port.jp/calender/19564/
LOCATION:スマイル・ポート ひろば
CATEGORIES:スマイル・ポートのカレンダー
END:VEVENT
BEGIN:VEVENT
DTSTART;TZID=Asia/Tokyo:20250822T114500
DTEND;TZID=Asia/Tokyo:20250822T120000
DTSTAMP:20260419T235034
CREATED:20250714T075056Z
LAST-MODIFIED:20250714T075056Z
UID:22127-1755863100-1755864000@smile-port.jp
SUMMARY:ちょこっとおはなし会
DESCRIPTION:お昼の会や帰りの会の時間に、スタッフによるちょこっとおはなし会を開きます。\n小さいお友だちも楽しめる絵本を読みます。
URL:https://smile-port.jp/calender/22127/
LOCATION:スマイル・ポート ひろば
CATEGORIES:スマイル・ポートのカレンダー
ATTACH;FMTTYPE=image/jpeg:https://smile-port.jp/v2/wp-content/uploads/2024/08/pg-chokottoohanashi.jpg
END:VEVENT
BEGIN:VEVENT
DTSTART;TZID=Asia/Tokyo:20250822T151000
DTEND;TZID=Asia/Tokyo:20250822T152500
DTSTAMP:20260419T235034
CREATED:20250714T075012Z
LAST-MODIFIED:20250714T075012Z
UID:22125-1755875400-1755876300@smile-port.jp
SUMMARY:ちょこっとおはなし会
DESCRIPTION:お昼の会や帰りの会の時間に、スタッフによるちょこっとおはなし会を開きます。\n小さいお友だちも楽しめる絵本を読みます。
URL:https://smile-port.jp/calender/22125/
LOCATION:スマイル・ポート ひろば
CATEGORIES:スマイル・ポートのカレンダー
ATTACH;FMTTYPE=image/jpeg:https://smile-port.jp/v2/wp-content/uploads/2024/08/pg-chokottoohanashi.jpg
END:VEVENT
BEGIN:VEVENT
DTSTART;VALUE=DATE:20250823
DTEND;VALUE=DATE:20250824
DTSTAMP:20260419T235034
CREATED:20250714T075558Z
LAST-MODIFIED:20250714T075558Z
UID:22136-1755907200-1755993599@smile-port.jp
SUMMARY:※ひろば利用12:30まで※
DESCRIPTION:区の事業開催（プレパパママクラス）のため、ひろばの利用は12:30までとなります。
URL:https://smile-port.jp/calender/22136/
LOCATION:スマイル・ポート ひろば
CATEGORIES:スマイル・ポートのカレンダー
END:VEVENT
BEGIN:VEVENT
DTSTART;TZID=Asia/Tokyo:20250823T093000
DTEND;TZID=Asia/Tokyo:20250823T120000
DTSTAMP:20260419T235034
CREATED:20250714T075236Z
LAST-MODIFIED:20250714T075236Z
UID:22130-1755941400-1755950400@smile-port.jp
SUMMARY:先輩パパ吉本さんと遊ぼう！
DESCRIPTION:ボランティアの先輩パパがひろばに来てみんなと遊んでくれます！\n特にプログラムはありません。エプロンを着けてひろばにいますので、ぜひ声をかけてくださいね。
URL:https://smile-port.jp/calender/22130/
LOCATION:スマイル・ポート ひろば
CATEGORIES:スマイル・ポートのカレンダー
ATTACH;FMTTYPE=image/jpeg:https://smile-port.jp/v2/wp-content/uploads/2024/08/pg-yosimotosan.jpg
END:VEVENT
BEGIN:VEVENT
DTSTART;TZID=Asia/Tokyo:20250823T100000
DTEND;TZID=Asia/Tokyo:20250823T120000
DTSTAMP:20260419T235034
CREATED:20250710T051441Z
LAST-MODIFIED:20250714T075200Z
UID:19516-1755943200-1755950400@smile-port.jp
SUMMARY:★臨床心理士さんの相談日
DESCRIPTION:子育てをしていると不安なことがいっぱい。\n自分ひとりで悩まないで相談してみましょう。今までたくさんの赤ちゃんや子どもたちを見てきた臨床心理士さんとお話してみませんか？\nお子さんに合わせてひろばでも、相談室でも相談できます。
URL:https://smile-port.jp/calender/19516/
LOCATION:スマイル・ポート ひろば
CATEGORIES:スマイル・ポートのカレンダー
ATTACH;FMTTYPE=image/jpeg:https://smile-port.jp/v2/wp-content/uploads/2025/02/pg-rinnshousinnrishi.jpg
END:VEVENT
BEGIN:VEVENT
DTSTART;VALUE=DATE:20250824
DTEND;VALUE=DATE:20250825
DTSTAMP:20260419T235034
CREATED:20250714T071805Z
LAST-MODIFIED:20250714T071805Z
UID:22098-1755993600-1756079999@smile-port.jp
SUMMARY:休館日
DESCRIPTION:
URL:https://smile-port.jp/calender/22098/
CATEGORIES:スマイル・ポートのカレンダー,休館日
END:VEVENT
BEGIN:VEVENT
DTSTART;VALUE=DATE:20250825
DTEND;VALUE=DATE:20250826
DTSTAMP:20260419T235034
CREATED:20250714T071819Z
LAST-MODIFIED:20250714T071819Z
UID:22100-1756080000-1756166399@smile-port.jp
SUMMARY:休館日
DESCRIPTION:
URL:https://smile-port.jp/calender/22100/
CATEGORIES:スマイル・ポートのカレンダー,休館日
END:VEVENT
END:VCALENDAR