BEGIN:VCALENDAR
VERSION:2.0
PRODID:-//西区地域子育て支援拠点スマイル・ポート - ECPv6.11.2//NONSGML v1.0//EN
CALSCALE:GREGORIAN
METHOD:PUBLISH
X-WR-CALNAME:西区地域子育て支援拠点スマイル・ポート
X-ORIGINAL-URL:https://smile-port.jp
X-WR-CALDESC:西区地域子育て支援拠点スマイル・ポート のイベント
REFRESH-INTERVAL;VALUE=DURATION:PT1H
X-Robots-Tag:noindex
X-PUBLISHED-TTL:PT1H
BEGIN:VTIMEZONE
TZID:Asia/Tokyo
BEGIN:STANDARD
TZOFFSETFROM:+0900
TZOFFSETTO:+0900
TZNAME:JST
DTSTART:20250101T000000
END:STANDARD
END:VTIMEZONE
BEGIN:VEVENT
DTSTART;TZID=Asia/Tokyo:20250402T100000
DTEND;TZID=Asia/Tokyo:20250402T110000
DTSTAMP:20260420T055403
CREATED:20250314T090002Z
LAST-MODIFIED:20250318T130615Z
UID:18492-1743588000-1743591600@smile-port.jp
SUMMARY:★スマイルデビューday
DESCRIPTION:スマイル・ポートを利用してみようかなというビギナーさん向けの日です。\n一人で行くのはドキドキする、2回目だけど利用の仕方を詳しく聞きたいという方に、スタッフが丁寧に説明します。プレパパママさん、赤ちゃんとのお出かけデビュー、最近近くに引っ越してきた方など、ご参加ください。 \n★初めてのご利用の方はこの日以外でも詳しく案内しますのでお気軽にお越しください。
URL:https://smile-port.jp/calender/18492/
LOCATION:スマイル・ポート ひろば
CATEGORIES:スマイル・ポートのカレンダー
ATTACH;FMTTYPE=image/jpeg:https://smile-port.jp/v2/wp-content/uploads/2025/02/pg-smiledebutday.jpg
END:VEVENT
BEGIN:VEVENT
DTSTART;VALUE=DATE:20250404
DTEND;VALUE=DATE:20250405
DTSTAMP:20260420T055403
CREATED:20250318T123431Z
LAST-MODIFIED:20250318T123431Z
UID:18701-1743724800-1743811199@smile-port.jp
SUMMARY:Smile Multicultural day
DESCRIPTION:
URL:https://smile-port.jp/calender/18701/
CATEGORIES:スマイル・ポートのカレンダー
ATTACH;FMTTYPE=image/jpeg:https://smile-port.jp/v2/wp-content/uploads/2025/03/pg-smd.jpg
END:VEVENT
BEGIN:VEVENT
DTSTART;TZID=Asia/Tokyo:20250404T100000
DTEND;TZID=Asia/Tokyo:20250404T114000
DTSTAMP:20260420T055403
CREATED:20250314T090112Z
LAST-MODIFIED:20250318T130555Z
UID:18494-1743760800-1743766800@smile-port.jp
SUMMARY:★子育てサポートシステム入会説明会
DESCRIPTION:毎月2回スマイル・ポートにて開催します。事前にお申込みください。もちろんお子さんも一緒に参加できます（小学生のお子さんはご相談ください）。
URL:https://smile-port.jp/calender/18494/
LOCATION:スマイル・ポート ひろば
CATEGORIES:スマイル・ポートのカレンダー
ATTACH;FMTTYPE=image/jpeg:https://smile-port.jp/v2/wp-content/uploads/2025/02/pg-kosaponyuukai.jpg
END:VEVENT
BEGIN:VEVENT
DTSTART;TZID=Asia/Tokyo:20250404T114500
DTEND;TZID=Asia/Tokyo:20250404T121500
DTSTAMP:20260420T055403
CREATED:20250314T090427Z
LAST-MODIFIED:20250403T022322Z
UID:18502-1743767100-1743768900@smile-port.jp
SUMMARY:エヌ・クラップパン販売の日
DESCRIPTION:「生活創造空間にし」にあるエヌ・クラップさんというパン屋さん。\n毎月おいしいパンをひろばで販売してくれます。\n※売り切れ次第終了します。\n※現金は常時利用できますが、場合によってはバーコードやカード決済が利用できる時があります。
URL:https://smile-port.jp/calender/18502/
LOCATION:スマイル・ポート ひろば
CATEGORIES:スマイル・ポートのカレンダー
ATTACH;FMTTYPE=image/png:https://smile-port.jp/v2/wp-content/uploads/2024/11/pg-nclap-pan.png
END:VEVENT
BEGIN:VEVENT
DTSTART;VALUE=DATE:20250406
DTEND;VALUE=DATE:20250407
DTSTAMP:20260420T055403
CREATED:20250306T042708Z
LAST-MODIFIED:20250306T043249Z
UID:18383-1743897600-1743983999@smile-port.jp
SUMMARY:休館日
DESCRIPTION:
URL:https://smile-port.jp/calender/18383/
CATEGORIES:スマイル・ポートのカレンダー,休館日
END:VEVENT
BEGIN:VEVENT
DTSTART;VALUE=DATE:20250407
DTEND;VALUE=DATE:20250408
DTSTAMP:20260420T055403
CREATED:20250306T043324Z
LAST-MODIFIED:20250306T043324Z
UID:18390-1743984000-1744070399@smile-port.jp
SUMMARY:休館日
DESCRIPTION:
URL:https://smile-port.jp/calender/18390/
CATEGORIES:スマイル・ポートのカレンダー,休館日
END:VEVENT
BEGIN:VEVENT
DTSTART;TZID=Asia/Tokyo:20250408T093000
DTEND;TZID=Asia/Tokyo:20250408T113000
DTSTAMP:20260420T055403
CREATED:20250314T090304Z
LAST-MODIFIED:20250318T130511Z
UID:18498-1744104600-1744111800@smile-port.jp
SUMMARY:きっずアワー
DESCRIPTION:この時間は、2歳児以上向けのおもちゃや遊びを用意しています。\n研修コーナーを使います。\n※赤ちゃん優先コーナーはいつも通り使うことができます。
URL:https://smile-port.jp/calender/18498/
LOCATION:スマイル・ポート ひろば
CATEGORIES:スマイル・ポートのカレンダー
ATTACH;FMTTYPE=image/jpeg:https://smile-port.jp/v2/wp-content/uploads/2025/02/pg-kidshour.jpg
END:VEVENT
BEGIN:VEVENT
DTSTART;TZID=Asia/Tokyo:20250409T133000
DTEND;TZID=Asia/Tokyo:20250409T153000
DTSTAMP:20260420T055403
CREATED:20250314T090648Z
LAST-MODIFIED:20250318T130531Z
UID:18504-1744205400-1744212600@smile-port.jp
SUMMARY:★保育・教育コンシェルジュさんの相談日（個別相談）
DESCRIPTION:保育園に通わせたいけど保育園のことが分からないという方。西区保育・教育コンシェルジュさんがスマイル・ポートで保育園についての個別相談をしてくれます。1組25分程度の個別相談会です。
URL:https://smile-port.jp/calender/18504/
LOCATION:スマイル・ポート ひろば
CATEGORIES:スマイル・ポートのカレンダー
ATTACH;FMTTYPE=image/jpeg:https://smile-port.jp/v2/wp-content/uploads/2025/02/pg-konnsherujyu.jpg
END:VEVENT
BEGIN:VEVENT
DTSTART;VALUE=DATE:20250411
DTEND;VALUE=DATE:20250412
DTSTAMP:20260420T055403
CREATED:20250318T123038Z
LAST-MODIFIED:20250318T123123Z
UID:18695-1744329600-1744415999@smile-port.jp
SUMMARY:Smile Multicultural day
DESCRIPTION:
URL:https://smile-port.jp/calender/18695/
CATEGORIES:スマイル・ポートのカレンダー
ATTACH;FMTTYPE=image/jpeg:https://smile-port.jp/v2/wp-content/uploads/2025/03/pg-smd.jpg
END:VEVENT
BEGIN:VEVENT
DTSTART;TZID=Asia/Tokyo:20250411T100000
DTEND;TZID=Asia/Tokyo:20250411T120000
DTSTAMP:20260420T055403
CREATED:20250314T090803Z
LAST-MODIFIED:20250318T130446Z
UID:18506-1744365600-1744372800@smile-port.jp
SUMMARY:★助産師さんの相談日（グループ相談後個別相談）
DESCRIPTION:母乳から卒乳のこと、ご自身の体調のことなど心配なことがあったら何でも相談にのってくれる助産師さんです。不安なことがあったら何でも聞いてみてください。\nプレパパママさんの相談もOKですよ。
URL:https://smile-port.jp/calender/18506/
LOCATION:スマイル・ポート ひろば
CATEGORIES:スマイル・ポートのカレンダー
ATTACH;FMTTYPE=image/jpeg:https://smile-port.jp/v2/wp-content/uploads/2025/02/pg-jyosannshi.jpg
END:VEVENT
BEGIN:VEVENT
DTSTART;TZID=Asia/Tokyo:20250412T103000
DTEND;TZID=Asia/Tokyo:20250412T113000
DTSTAMP:20260420T055403
CREATED:20250314T092701Z
LAST-MODIFIED:20250318T130413Z
UID:18536-1744453800-1744457400@smile-port.jp
SUMMARY:パパおいで（手作りおもちゃの会）
DESCRIPTION:スマイル・ポートのひろばに遊びにきてくれたパパたちの声から始まった「パパおいで」の日。「ちょっと遊びに行きづらいな」と思っていたパパも一緒に遊びにきてくださいね。
URL:https://smile-port.jp/calender/18536/
LOCATION:スマイル・ポート ひろば
CATEGORIES:スマイル・ポートのカレンダー
ATTACH;FMTTYPE=image/jpeg:https://smile-port.jp/v2/wp-content/uploads/2025/02/pg-papaoide.jpg
END:VEVENT
BEGIN:VEVENT
DTSTART;TZID=Asia/Tokyo:20250412T133000
DTEND;TZID=Asia/Tokyo:20250412T144500
DTSTAMP:20260420T055403
CREATED:20250314T090910Z
LAST-MODIFIED:20250318T130338Z
UID:18508-1744464600-1744469100@smile-port.jp
SUMMARY:★スマイルミライday～プレパパママタイム～
DESCRIPTION:赤ちゃんを迎えるママさんパパさん！スマイル・ポートに遊びに来てみませんか？ スマイル・ポートの施設の紹介と、助産師さんによる沐浴・着替え・抱っこ体験、妊婦体験ができます。ひろばを見学しながら先輩ファミリーとの交流もできます。 グループで行いますので赤ちゃんを迎える前にママ友、パパ友ができるチャンスです！
URL:https://smile-port.jp/calender/18508/
LOCATION:スマイル・ポート ひろば
CATEGORIES:スマイル・ポートのカレンダー
ATTACH;FMTTYPE=image/jpeg:https://smile-port.jp/v2/wp-content/uploads/2025/02/pg-smilemirai.jpg
END:VEVENT
BEGIN:VEVENT
DTSTART;VALUE=DATE:20250413
DTEND;VALUE=DATE:20250414
DTSTAMP:20260420T055403
CREATED:20250306T043359Z
LAST-MODIFIED:20250306T043359Z
UID:18392-1744502400-1744588799@smile-port.jp
SUMMARY:休館日
DESCRIPTION:
URL:https://smile-port.jp/calender/18392/
CATEGORIES:スマイル・ポートのカレンダー,休館日
END:VEVENT
BEGIN:VEVENT
DTSTART;VALUE=DATE:20250414
DTEND;VALUE=DATE:20250415
DTSTAMP:20260420T055403
CREATED:20250306T043429Z
LAST-MODIFIED:20250306T043429Z
UID:18394-1744588800-1744675199@smile-port.jp
SUMMARY:休館日
DESCRIPTION:
URL:https://smile-port.jp/calender/18394/
CATEGORIES:スマイル・ポートのカレンダー,休館日
END:VEVENT
BEGIN:VEVENT
DTSTART;TZID=Asia/Tokyo:20250415T140000
DTEND;TZID=Asia/Tokyo:20250415T144000
DTSTAMP:20260420T055403
CREATED:20250314T091011Z
LAST-MODIFIED:20250319T233115Z
UID:18510-1744725600-1744728000@smile-port.jp
SUMMARY:★親子ふれあいあそび
DESCRIPTION:親子で向き合う時間を大切にするイベントです。音や視覚、手触りなどの感覚を刺激する遊びをします。親子でスキンシップしながら楽しみませんか？
URL:https://smile-port.jp/calender/18510/
LOCATION:スマイル・ポート ひろば
CATEGORIES:スマイル・ポートのカレンダー
ATTACH;FMTTYPE=image/jpeg:https://smile-port.jp/v2/wp-content/uploads/2025/02/pg-fureai.jpg
END:VEVENT
BEGIN:VEVENT
DTSTART;TZID=Asia/Tokyo:20250416T093000
DTEND;TZID=Asia/Tokyo:20250416T111500
DTSTAMP:20260420T055403
CREATED:20250314T093110Z
LAST-MODIFIED:20250314T093110Z
UID:18542-1744795800-1744802100@smile-port.jp
SUMMARY:※ひろば縮小※
DESCRIPTION:区の事業開催（赤ちゃん教室）のため、ひろばの利用が縮小されます。
URL:https://smile-port.jp/calender/18542/
LOCATION:スマイル・ポート ひろば
CATEGORIES:スマイル・ポートのカレンダー
END:VEVENT
BEGIN:VEVENT
DTSTART;TZID=Asia/Tokyo:20250416T133000
DTEND;TZID=Asia/Tokyo:20250416T143000
DTSTAMP:20260420T055403
CREATED:20250314T091340Z
LAST-MODIFIED:20250319T232859Z
UID:18514-1744810200-1744813800@smile-port.jp
SUMMARY:★栄養士さんの相談日
DESCRIPTION:離乳食で困っている方向けの相談日です。栄養士さんが来て、みなさんの不安や悩みに答えてくれます。お気軽にご参加ください。
URL:https://smile-port.jp/calender/18514/
LOCATION:スマイル・ポート ひろば
CATEGORIES:スマイル・ポートのカレンダー
ATTACH;FMTTYPE=image/jpeg:https://smile-port.jp/v2/wp-content/uploads/2025/02/pg-eiyoushi.jpg
END:VEVENT
BEGIN:VEVENT
DTSTART;TZID=Asia/Tokyo:20250417T133000
DTEND;TZID=Asia/Tokyo:20250417T143000
DTSTAMP:20260420T055403
CREATED:20250314T091214Z
LAST-MODIFIED:20250318T130229Z
UID:18512-1744896600-1744900200@smile-port.jp
SUMMARY:★子育てパートナーとZOOMでおしゃべり
DESCRIPTION:横浜子育てパートナーがZOOMで個別相談を行います。子育て中の知りたいこと・困ったことなど、おしゃべりの内容はなんでもOKです。
URL:https://smile-port.jp/calender/18512/
LOCATION:オンライン（ZOOM）
CATEGORIES:スマイル・ポートのカレンダー
END:VEVENT
BEGIN:VEVENT
DTSTART;VALUE=DATE:20250418
DTEND;VALUE=DATE:20250419
DTSTAMP:20260420T055403
CREATED:20250318T123141Z
LAST-MODIFIED:20250318T123141Z
UID:18697-1744934400-1745020799@smile-port.jp
SUMMARY:Smile Multicultural day
DESCRIPTION:
URL:https://smile-port.jp/calender/18697/
CATEGORIES:スマイル・ポートのカレンダー
ATTACH;FMTTYPE=image/jpeg:https://smile-port.jp/v2/wp-content/uploads/2025/03/pg-smd.jpg
END:VEVENT
BEGIN:VEVENT
DTSTART;TZID=Asia/Tokyo:20250418T100000
DTEND;TZID=Asia/Tokyo:20250418T103000
DTSTAMP:20260420T055403
CREATED:20250314T091626Z
LAST-MODIFIED:20250319T232804Z
UID:18519-1744970400-1744972200@smile-port.jp
SUMMARY:★親子で英語リトミック①
DESCRIPTION:赤ちゃんから参加できる楽しいプログラムです。\nエレクトーンの生演奏に合わせて英語の歌を歌ったり、手遊びをしたりします。\n親子で動きますので動きやすい服装でご参加ください。\n推奨年齢は6か月～です。
URL:https://smile-port.jp/calender/18519/
LOCATION:スマイル・ポート ひろば
CATEGORIES:スマイル・ポートのカレンダー
ATTACH;FMTTYPE=image/jpeg:https://smile-port.jp/v2/wp-content/uploads/2025/02/pg-oyakodeeigo.jpg
END:VEVENT
BEGIN:VEVENT
DTSTART;TZID=Asia/Tokyo:20250418T140000
DTEND;TZID=Asia/Tokyo:20250418T143000
DTSTAMP:20260420T055403
CREATED:20250314T091532Z
LAST-MODIFIED:20250319T232828Z
UID:18517-1744984800-1744986600@smile-port.jp
SUMMARY:★親子で英語リトミック②
DESCRIPTION:赤ちゃんから参加できる楽しいプログラムです。\nエレクトーンの生演奏に合わせて英語の歌を歌ったり、手遊びをしたりします。\n親子で動きますので動きやすい服装でご参加ください。\n推奨年齢は6か月～です。
URL:https://smile-port.jp/calender/18517/
LOCATION:スマイル・ポート ひろば
CATEGORIES:スマイル・ポートのカレンダー
ATTACH;FMTTYPE=image/jpeg:https://smile-port.jp/v2/wp-content/uploads/2025/02/pg-oyakodeeigo.jpg
END:VEVENT
BEGIN:VEVENT
DTSTART;TZID=Asia/Tokyo:20250419T100000
DTEND;TZID=Asia/Tokyo:20250419T114000
DTSTAMP:20260420T055403
CREATED:20250314T090213Z
LAST-MODIFIED:20250318T130125Z
UID:18496-1745056800-1745062800@smile-port.jp
SUMMARY:★子育てサポートシステム入会説明会
DESCRIPTION:毎月2回スマイル・ポートにて開催します。事前にお申込みください。もちろんお子さんも一緒に参加できます（小学生のお子さんはご相談ください）。
URL:https://smile-port.jp/calender/18496/
LOCATION:スマイル・ポート ひろば
CATEGORIES:スマイル・ポートのカレンダー
ATTACH;FMTTYPE=image/jpeg:https://smile-port.jp/v2/wp-content/uploads/2025/02/pg-kosaponyuukai.jpg
END:VEVENT
BEGIN:VEVENT
DTSTART;VALUE=DATE:20250420
DTEND;VALUE=DATE:20250421
DTSTAMP:20260420T055403
CREATED:20250317T094128Z
LAST-MODIFIED:20250317T094128Z
UID:18619-1745107200-1745193599@smile-port.jp
SUMMARY:休館日
DESCRIPTION:
URL:https://smile-port.jp/calender/18619/
CATEGORIES:スマイル・ポートのカレンダー,休館日
END:VEVENT
BEGIN:VEVENT
DTSTART;VALUE=DATE:20250421
DTEND;VALUE=DATE:20250422
DTSTAMP:20260420T055403
CREATED:20250306T043712Z
LAST-MODIFIED:20250306T043722Z
UID:18400-1745193600-1745279999@smile-port.jp
SUMMARY:休館日
DESCRIPTION:
URL:https://smile-port.jp/calender/18400/
CATEGORIES:スマイル・ポートのカレンダー,休館日
END:VEVENT
BEGIN:VEVENT
DTSTART;VALUE=DATE:20250422
DTEND;VALUE=DATE:20250423
DTSTAMP:20260420T055403
CREATED:20250314T093854Z
LAST-MODIFIED:20250329T122441Z
UID:18544-1745280000-1745366399@smile-port.jp
SUMMARY:オープンウイーク【4月22日(火)～26日(土)】
DESCRIPTION:春恒例の『オープンウイーク』を開催します。スマイル・ポートってどんなところ？地域子育て支援拠点は何ができる場所なの？そんな疑問をお持ちのみなさん。『オープンウイーク』期間中にひろばへあそびに来てみませんか？見学も大歓迎です。スマイル・ポートのひろばでお待ちしています。 \n期間は2025年4月22日(火)～26日(土)
URL:https://smile-port.jp/calender/18544/
LOCATION:スマイル・ポート ひろば
CATEGORIES:スマイル・ポートのカレンダー
ATTACH;FMTTYPE=image/jpeg:https://smile-port.jp/v2/wp-content/uploads/2025/03/pg-openweek.jpg
END:VEVENT
BEGIN:VEVENT
DTSTART;VALUE=DATE:20250423
DTEND;VALUE=DATE:20250424
DTSTAMP:20260420T055403
CREATED:20250314T092605Z
LAST-MODIFIED:20250319T231859Z
UID:18534-1745366400-1745452799@smile-port.jp
SUMMARY:Happy Birthday Week（～30日）
DESCRIPTION:お昼の会とお帰りの会の2回、その月にお誕生日を迎えるお子さんをみんなでお祝いしましょう。\nウィーク中は何度でも参加可能です。
URL:https://smile-port.jp/calender/18534/
LOCATION:スマイル・ポート ひろば
CATEGORIES:スマイル・ポートのカレンダー
ATTACH;FMTTYPE=image/jpeg:https://smile-port.jp/v2/wp-content/uploads/2025/02/pg-happybirthday.jpg
END:VEVENT
BEGIN:VEVENT
DTSTART;TZID=Asia/Tokyo:20250423T130000
DTEND;TZID=Asia/Tokyo:20250423T150000
DTSTAMP:20260420T055403
CREATED:20250314T090335Z
LAST-MODIFIED:20250318T130045Z
UID:18500-1745413200-1745420400@smile-port.jp
SUMMARY:きっずアワー
DESCRIPTION:この時間は、2歳児以上向けのおもちゃや遊びを用意しています。\n研修コーナーを使います。\n※赤ちゃん優先コーナーはいつも通り使うことができます。
URL:https://smile-port.jp/calender/18500/
LOCATION:スマイル・ポート ひろば
CATEGORIES:スマイル・ポートのカレンダー
ATTACH;FMTTYPE=image/jpeg:https://smile-port.jp/v2/wp-content/uploads/2025/02/pg-kidshour.jpg
END:VEVENT
BEGIN:VEVENT
DTSTART;TZID=Asia/Tokyo:20250423T133000
DTEND;TZID=Asia/Tokyo:20250423T143000
DTSTAMP:20260420T055403
CREATED:20250314T092437Z
LAST-MODIFIED:20250529T063541Z
UID:18530-1745415000-1745418600@smile-port.jp
SUMMARY:子育てパートナーとおしゃべりしよう！
DESCRIPTION:お子さんのこと、ご自分のことなどいろいろとおしゃべりしてすっきりしませんか？
URL:https://smile-port.jp/calender/18530/
LOCATION:スマイル・ポート ひろば
CATEGORIES:スマイル・ポートのカレンダー
ATTACH;FMTTYPE=image/jpeg:https://smile-port.jp/v2/wp-content/uploads/2025/02/pg-partneroshaberi.jpg
END:VEVENT
BEGIN:VEVENT
DTSTART;TZID=Asia/Tokyo:20250424T133000
DTEND;TZID=Asia/Tokyo:20250424T143000
DTSTAMP:20260420T055403
CREATED:20250314T092818Z
LAST-MODIFIED:20250326T061915Z
UID:18538-1745501400-1745505000@smile-port.jp
SUMMARY:パパおいで（手作りおもちゃの会）
DESCRIPTION:スマイル・ポートのひろばに遊びにきてくれたパパたちの声から始まった「パパおいで」の日。「ちょっと遊びに行きづらいな」と思っていたパパも一緒に遊びにきてくださいね。
URL:https://smile-port.jp/calender/18538/
LOCATION:スマイル・ポート ひろば
CATEGORIES:スマイル・ポートのカレンダー
ATTACH;FMTTYPE=image/jpeg:https://smile-port.jp/v2/wp-content/uploads/2025/02/pg-papaoide.jpg
END:VEVENT
BEGIN:VEVENT
DTSTART;VALUE=DATE:20250425
DTEND;VALUE=DATE:20250426
DTSTAMP:20260420T055403
CREATED:20250318T123158Z
LAST-MODIFIED:20250318T123323Z
UID:18699-1745539200-1745625599@smile-port.jp
SUMMARY:Smile Multicultural day
DESCRIPTION:
URL:https://smile-port.jp/calender/18699/
CATEGORIES:スマイル・ポートのカレンダー
ATTACH;FMTTYPE=image/jpeg:https://smile-port.jp/v2/wp-content/uploads/2025/03/pg-smd.jpg
END:VEVENT
END:VCALENDAR