BEGIN:VCALENDAR
VERSION:2.0
PRODID:-//西区地域子育て支援拠点スマイル・ポート - ECPv6.11.2//NONSGML v1.0//EN
CALSCALE:GREGORIAN
METHOD:PUBLISH
X-WR-CALNAME:西区地域子育て支援拠点スマイル・ポート
X-ORIGINAL-URL:https://smile-port.jp
X-WR-CALDESC:西区地域子育て支援拠点スマイル・ポート のイベント
REFRESH-INTERVAL;VALUE=DURATION:PT1H
X-Robots-Tag:noindex
X-PUBLISHED-TTL:PT1H
BEGIN:VTIMEZONE
TZID:Asia/Tokyo
BEGIN:STANDARD
TZOFFSETFROM:+0900
TZOFFSETTO:+0900
TZNAME:JST
DTSTART:20250101T000000
END:STANDARD
END:VTIMEZONE
BEGIN:VEVENT
DTSTART;VALUE=DATE:20250302
DTEND;VALUE=DATE:20250303
DTSTAMP:20260420T074325
CREATED:20250306T042000Z
LAST-MODIFIED:20250306T042000Z
UID:18365-1740873600-1740959999@smile-port.jp
SUMMARY:休館日
DESCRIPTION:
URL:https://smile-port.jp/calender/18365/
CATEGORIES:スマイル・ポートのカレンダー,休館日
END:VEVENT
BEGIN:VEVENT
DTSTART;VALUE=DATE:20250303
DTEND;VALUE=DATE:20250304
DTSTAMP:20260420T074325
CREATED:20250306T042046Z
LAST-MODIFIED:20250306T042046Z
UID:18367-1740960000-1741046399@smile-port.jp
SUMMARY:休館日
DESCRIPTION:
URL:https://smile-port.jp/calender/18367/
CATEGORIES:スマイル・ポートのカレンダー,休館日
END:VEVENT
BEGIN:VEVENT
DTSTART;TZID=Asia/Tokyo:20250304T093000
DTEND;TZID=Asia/Tokyo:20250304T113000
DTSTAMP:20260420T074325
CREATED:20250213T073306Z
LAST-MODIFIED:20250213T073306Z
UID:18020-1741080600-1741087800@smile-port.jp
SUMMARY:きっずアワー
DESCRIPTION:この時間は、2歳児以上向けのおもちゃや遊びを用意しています。\n研修コーナーを使います。\n※赤ちゃん優先コーナーはいつも通り使うことができます。
URL:https://smile-port.jp/calender/18020/
LOCATION:スマイル・ポート ひろば
CATEGORIES:スマイル・ポートのカレンダー
ATTACH;FMTTYPE=image/png:https://smile-port.jp/v2/wp-content/uploads/2024/11/pg-kids-hour.png
END:VEVENT
BEGIN:VEVENT
DTSTART;TZID=Asia/Tokyo:20250304T140000
DTEND;TZID=Asia/Tokyo:20250304T150000
DTSTAMP:20260420T074325
CREATED:20250217T223127Z
LAST-MODIFIED:20250301T080039Z
UID:18141-1741096800-1741100400@smile-port.jp
SUMMARY:知ろう！乳がん・子宮頸がんのこと
DESCRIPTION:20～40代が多くかかる乳がんと子宮頸がんについて横浜市立市民病院の保健師さんが分かりやすく説明してくれます。
URL:https://smile-port.jp/calender/18141/
LOCATION:スマイル・ポート ひろば
CATEGORIES:スマイル・ポートのカレンダー
ATTACH;FMTTYPE=image/png:https://smile-port.jp/v2/wp-content/uploads/2025/02/25e2917b7a2d484dd63ca2e73066a22c.png
END:VEVENT
BEGIN:VEVENT
DTSTART;TZID=Asia/Tokyo:20250305T100000
DTEND;TZID=Asia/Tokyo:20250305T110000
DTSTAMP:20260420T074325
CREATED:20250217T052738Z
LAST-MODIFIED:20250217T053421Z
UID:18089-1741168800-1741172400@smile-port.jp
SUMMARY:★スマイルデビューday
DESCRIPTION:スマイル・ポートを利用してみようかなというビギナーさん向けの日です。\n一人で行くのはドキドキする、2回目だけど利用の仕方を詳しく聞きたいという方に、スタッフが丁寧に説明します。プレパパママさん、赤ちゃんとのお出かけデビュー、最近近くに引っ越してきた方など、ご参加ください。 \n★初めてのご利用の方はこの日以外でも詳しく案内しますのでお気軽にお越しください。
URL:https://smile-port.jp/calender/18089/
LOCATION:スマイル・ポート ひろば
CATEGORIES:スマイル・ポートのカレンダー
ATTACH;FMTTYPE=image/jpeg:https://smile-port.jp/v2/wp-content/uploads/2024/11/pg-debut-day.jpg
END:VEVENT
BEGIN:VEVENT
DTSTART;VALUE=DATE:20250306
DTEND;VALUE=DATE:20250307
DTSTAMP:20260420T074325
CREATED:20250213T072922Z
LAST-MODIFIED:20250213T072922Z
UID:18012-1741219200-1741305599@smile-port.jp
SUMMARY:パパおいで
DESCRIPTION:スマイル・ポートのひろばに遊びにきてくれたパパたちの声から始まった「パパおいで」の日。「ちょっと遊びに行きづらいな」と思っていたパパも一緒に遊びにきてくださいね。\n＊開館時間内のご都合のよい時に来てください。申込も不要です。
URL:https://smile-port.jp/calender/18012/
LOCATION:スマイル・ポート ひろば
CATEGORIES:スマイル・ポートのカレンダー
ATTACH;FMTTYPE=image/png:https://smile-port.jp/v2/wp-content/uploads/2024/11/pg-papa-event.png
END:VEVENT
BEGIN:VEVENT
DTSTART;TZID=Asia/Tokyo:20250306T100000
DTEND;TZID=Asia/Tokyo:20250306T110000
DTSTAMP:20260420T074325
CREATED:20250217T054208Z
LAST-MODIFIED:20250217T224857Z
UID:18096-1741255200-1741258800@smile-port.jp
SUMMARY:おそとでスマイル@宮ケ谷公園
DESCRIPTION:スマイル・ポートのスタッフが「らっこっこ」の青空広場におじゃまします。\n（おそとでスマイルは11:00終了。らっこっこは11:30まで）\n親子で公園あそび、子育て情報の提供やスタッフとのおしゃべりを楽しみましょう！
URL:https://smile-port.jp/calender/18096/
LOCATION:宮ケ谷公園\, 西区宮ケ谷6-6
CATEGORIES:スマイル・ポートのカレンダー
ATTACH;FMTTYPE=image/jpeg:https://smile-port.jp/v2/wp-content/uploads/2024/11/pg-osotode-smile.jpg
END:VEVENT
BEGIN:VEVENT
DTSTART;TZID=Asia/Tokyo:20250306T140000
DTEND;TZID=Asia/Tokyo:20250306T150000
DTSTAMP:20260420T074325
CREATED:20250217T055558Z
LAST-MODIFIED:20250217T055558Z
UID:18103-1741269600-1741273200@smile-port.jp
SUMMARY:保育士さんとあそぼう
DESCRIPTION:子育てひろば私立常設園「ろぜっと保育園」から保育士さんがきて、つむぎ体操をやったり、みんなの相談にのったりしてくれます。 ※スペースに限りがありますので参加できない場合があります。ご了承ください。 
URL:https://smile-port.jp/calender/18103/
LOCATION:スマイル・ポート ひろば
CATEGORIES:スマイル・ポートのカレンダー
ATTACH;FMTTYPE=image/png:https://smile-port.jp/v2/wp-content/uploads/2024/11/pg-hoikushisan.png
END:VEVENT
BEGIN:VEVENT
DTSTART;TZID=Asia/Tokyo:20250307T100000
DTEND;TZID=Asia/Tokyo:20250307T114000
DTSTAMP:20260420T074325
CREATED:20250217T060159Z
LAST-MODIFIED:20250217T060159Z
UID:18106-1741341600-1741347600@smile-port.jp
SUMMARY:★子育てサポートシステム入会説明会
DESCRIPTION:毎月2回スマイル・ポートにて開催します。事前にお申込みください。もちろんお子さんも一緒に参加できます（小学生のお子さんはご相談ください）。
URL:https://smile-port.jp/calender/18106/
LOCATION:スマイル・ポート ひろば
CATEGORIES:スマイル・ポートのカレンダー
ATTACH;FMTTYPE=image/png:https://smile-port.jp/v2/wp-content/uploads/2024/08/pg-kosapo-info.png
END:VEVENT
BEGIN:VEVENT
DTSTART;TZID=Asia/Tokyo:20250307T133000
DTEND;TZID=Asia/Tokyo:20250307T143000
DTSTAMP:20260420T074325
CREATED:20250217T100756Z
LAST-MODIFIED:20250217T225355Z
UID:18139-1741354200-1741357800@smile-port.jp
SUMMARY:★スマイル復職カフェ
DESCRIPTION:先輩ママのお話を聞きながら春からの復職準備をしませんか？\n仕事、育児、家事のバランスや自分の時間の作り方など…気軽におしゃべりしながら春からの生活をイメージしてみましょう。
URL:https://smile-port.jp/calender/18139/
LOCATION:スマイル・ポート ひろば
CATEGORIES:スマイル・ポートのカレンダー
ATTACH;FMTTYPE=image/png:https://smile-port.jp/v2/wp-content/uploads/2024/11/pg-fukushoku-cafe.png
END:VEVENT
BEGIN:VEVENT
DTSTART;TZID=Asia/Tokyo:20250308T100000
DTEND;TZID=Asia/Tokyo:20250308T120000
DTSTAMP:20260420T074325
CREATED:20250217T060834Z
LAST-MODIFIED:20250217T060834Z
UID:18111-1741428000-1741435200@smile-port.jp
SUMMARY:★臨床心理士さんの相談日
DESCRIPTION:子育てをしていると不安なことがいっぱい。\n自分ひとりで悩まないで相談してみましょう。今までたくさんの赤ちゃんや子どもたちを見てきた臨床心理士さんとお話してみませんか？\nお子さんに合わせてひろばでも、相談室でも相談できます。
URL:https://smile-port.jp/calender/18111/
LOCATION:スマイル・ポート ひろば
CATEGORIES:スマイル・ポートのカレンダー
ATTACH;FMTTYPE=image/jpeg:https://smile-port.jp/v2/wp-content/uploads/2024/11/pg-sodan-sinrishi.jpg
END:VEVENT
BEGIN:VEVENT
DTSTART;TZID=Asia/Tokyo:20250308T133000
DTEND;TZID=Asia/Tokyo:20250308T144500
DTSTAMP:20260420T074325
CREATED:20250217T070051Z
LAST-MODIFIED:20250217T070051Z
UID:18116-1741440600-1741445100@smile-port.jp
SUMMARY:★スマイルミライday～プレパパママタイム～
DESCRIPTION:赤ちゃんを迎えるママさんパパさん！スマイル・ポートに遊びに来てみませんか？\nスマイル・ポートの施設の紹介と、助産師さんによる沐浴・着替え・抱っこ体験、妊婦体験ができます。ひろばを見学しながら先輩ファミリーとの交流もできます。\n\nグループで行いますので赤ちゃんを迎える前にママ友、パパ友ができるチャンスです！
URL:https://smile-port.jp/calender/18116/
LOCATION:スマイル・ポート ひろば
CATEGORIES:スマイル・ポートのカレンダー
ATTACH;FMTTYPE=image/jpeg:https://smile-port.jp/v2/wp-content/uploads/2024/11/pg-miraiday.jpg
END:VEVENT
BEGIN:VEVENT
DTSTART;VALUE=DATE:20250309
DTEND;VALUE=DATE:20250310
DTSTAMP:20260420T074325
CREATED:20250306T043827Z
LAST-MODIFIED:20250306T074211Z
UID:18402-1741478400-1741564799@smile-port.jp
SUMMARY:休館日
DESCRIPTION:
URL:https://smile-port.jp/calender/18402/
CATEGORIES:スマイル・ポートのカレンダー,休館日
END:VEVENT
BEGIN:VEVENT
DTSTART;VALUE=DATE:20250310
DTEND;VALUE=DATE:20250311
DTSTAMP:20260420T074325
CREATED:20250306T042128Z
LAST-MODIFIED:20250306T042200Z
UID:18369-1741564800-1741651199@smile-port.jp
SUMMARY:休館日
DESCRIPTION:
URL:https://smile-port.jp/calender/18369/
CATEGORIES:スマイル・ポートのカレンダー,休館日
END:VEVENT
BEGIN:VEVENT
DTSTART;TZID=Asia/Tokyo:20250311T133000
DTEND;TZID=Asia/Tokyo:20250311T143000
DTSTAMP:20260420T074325
CREATED:20250217T095623Z
LAST-MODIFIED:20250217T095623Z
UID:18131-1741699800-1741703400@smile-port.jp
SUMMARY:関西大好き親子あつまれ～！
DESCRIPTION:関西出身です！というママさん、パパさん、または関西のことが大好き！というみなさん。みんなで集合しておしゃべりしてみませんか。関西出身のママさんがMCをしますよ！気軽に遊びに来てね。
URL:https://smile-port.jp/calender/18131/
LOCATION:スマイル・ポート ひろば
CATEGORIES:スマイル・ポートのカレンダー
END:VEVENT
BEGIN:VEVENT
DTSTART;VALUE=DATE:20250312
DTEND;VALUE=DATE:20250313
DTSTAMP:20260420T074325
CREATED:20250213T072947Z
LAST-MODIFIED:20250213T072947Z
UID:18014-1741737600-1741823999@smile-port.jp
SUMMARY:パパおいで
DESCRIPTION:スマイル・ポートのひろばに遊びにきてくれたパパたちの声から始まった「パパおいで」の日。「ちょっと遊びに行きづらいな」と思っていたパパも一緒に遊びにきてくださいね。\n＊開館時間内のご都合のよい時に来てください。申込も不要です。
URL:https://smile-port.jp/calender/18014/
LOCATION:スマイル・ポート ひろば
CATEGORIES:スマイル・ポートのカレンダー
ATTACH;FMTTYPE=image/png:https://smile-port.jp/v2/wp-content/uploads/2024/11/pg-papa-event.png
END:VEVENT
BEGIN:VEVENT
DTSTART;TZID=Asia/Tokyo:20250312T133000
DTEND;TZID=Asia/Tokyo:20250312T153000
DTSTAMP:20260420T074325
CREATED:20250217T100312Z
LAST-MODIFIED:20250217T100312Z
UID:18136-1741786200-1741793400@smile-port.jp
SUMMARY:★保育・教育コンシェルジュさんの相談日（個別相談）
DESCRIPTION:保育園に通わせたいけど保育園のことが分からないという方。西区保育・教育コンシェルジュさんがスマイル・ポートで保育園についての個別相談をしてくれます。1組25分程度の個別相談会です。
URL:https://smile-port.jp/calender/18136/
LOCATION:スマイル・ポート ひろば
CATEGORIES:スマイル・ポートのカレンダー
END:VEVENT
BEGIN:VEVENT
DTSTART;TZID=Asia/Tokyo:20250313T113000
DTEND;TZID=Asia/Tokyo:20250313T120000
DTSTAMP:20260420T074325
CREATED:20250217T094048Z
LAST-MODIFIED:20250217T094111Z
UID:18119-1741865400-1741867200@smile-port.jp
SUMMARY:読み聞かせボランティア「この本だいすきの会」
DESCRIPTION:『この本だいすきの会』さんによるお話会です。\nお昼の会の時間（11:30～12:00）に行います。
URL:https://smile-port.jp/calender/18119/
LOCATION:スマイル・ポート ひろば
CATEGORIES:スマイル・ポートのカレンダー
ATTACH;FMTTYPE=image/png:https://smile-port.jp/v2/wp-content/uploads/2024/11/pg-yomikikase-volunteer.png
END:VEVENT
BEGIN:VEVENT
DTSTART;TZID=Asia/Tokyo:20250314T100000
DTEND;TZID=Asia/Tokyo:20250314T120000
DTSTAMP:20260420T074325
CREATED:20250217T100055Z
LAST-MODIFIED:20250217T100055Z
UID:18134-1741946400-1741953600@smile-port.jp
SUMMARY:★助産師さんの相談日（グループ相談後個別相談）
DESCRIPTION:母乳から卒乳のこと、ご自身の体調のことなど心配なことがあったら何でも相談にのってくれる助産師さんです。不安なことがあったら何でも聞いてみてください。\nプレパパママさんの相談もOKですよ。
URL:https://smile-port.jp/calender/18134/
LOCATION:スマイル・ポート ひろば
CATEGORIES:スマイル・ポートのカレンダー
ATTACH;FMTTYPE=image/jpeg:https://smile-port.jp/v2/wp-content/uploads/2024/11/pg-sodan-jyosanshi.jpg
END:VEVENT
BEGIN:VEVENT
DTSTART;TZID=Asia/Tokyo:20250315T100000
DTEND;TZID=Asia/Tokyo:20250315T113000
DTSTAMP:20260420T074325
CREATED:20250217T223557Z
LAST-MODIFIED:20250308T081042Z
UID:18143-1742032800-1742038200@smile-port.jp
SUMMARY:★パパとママのための救急講座
DESCRIPTION:6月に別会場で行われた救急講座をスマイル・ポートでも開催。西消防署の消防士さんが、AEDの扱い方や心肺蘇生法、誤飲時の対応について教えてくれます。人形を使って体験もできます。画像は戸部本町地域ケアプラザでの救急講座の様子です。
URL:https://smile-port.jp/calender/18143/
LOCATION:スマイル・ポート ひろば
CATEGORIES:スマイル・ポートのカレンダー
ATTACH;FMTTYPE=image/jpeg:https://smile-port.jp/v2/wp-content/uploads/2025/02/im-kyukyu.jpg
END:VEVENT
BEGIN:VEVENT
DTSTART;VALUE=DATE:20250316
DTEND;VALUE=DATE:20250317
DTSTAMP:20260420T074325
CREATED:20250306T042226Z
LAST-MODIFIED:20250306T042226Z
UID:18371-1742083200-1742169599@smile-port.jp
SUMMARY:休館日
DESCRIPTION:
URL:https://smile-port.jp/calender/18371/
CATEGORIES:スマイル・ポートのカレンダー,休館日
END:VEVENT
BEGIN:VEVENT
DTSTART;VALUE=DATE:20250317
DTEND;VALUE=DATE:20250318
DTSTAMP:20260420T074325
CREATED:20250306T042603Z
LAST-MODIFIED:20250306T042603Z
UID:18381-1742169600-1742255999@smile-port.jp
SUMMARY:休館日
DESCRIPTION:
URL:https://smile-port.jp/calender/18381/
CATEGORIES:スマイル・ポートのカレンダー,休館日
END:VEVENT
BEGIN:VEVENT
DTSTART;VALUE=DATE:20250318
DTEND;VALUE=DATE:20250319
DTSTAMP:20260420T074325
CREATED:20250213T073004Z
LAST-MODIFIED:20250318T131349Z
UID:18016-1742256000-1742342399@smile-port.jp
SUMMARY:パパおいで
DESCRIPTION:スマイル・ポートのひろばに遊びにきてくれたパパたちの声から始まった「パパおいで」の日。「ちょっと遊びに行きづらいな」と思っていたパパも一緒に遊びにきてくださいね。\n＊開館時間内のご都合のよい時に来てください。申込も不要です。
URL:https://smile-port.jp/calender/18016/
LOCATION:スマイル・ポート ひろば
CATEGORIES:スマイル・ポートのカレンダー
ATTACH;FMTTYPE=image/jpeg:https://smile-port.jp/v2/wp-content/uploads/2025/02/pg-papaoide.jpg
END:VEVENT
BEGIN:VEVENT
DTSTART;TZID=Asia/Tokyo:20250318T133000
DTEND;TZID=Asia/Tokyo:20250318T143000
DTSTAMP:20260420T074325
CREATED:20250213T072534Z
LAST-MODIFIED:20250318T131327Z
UID:18009-1742304600-1742308200@smile-port.jp
SUMMARY:★子育てパートナーとZOOMで相談
DESCRIPTION:横浜子育てパートナーがZOOMで個別相談を行います。子育ての不安や気になっていることなどを相談してみましょう。
URL:https://smile-port.jp/calender/18009/
LOCATION:オンライン（ZOOM）
CATEGORIES:スマイル・ポートのカレンダー
END:VEVENT
BEGIN:VEVENT
DTSTART;TZID=Asia/Tokyo:20250319T133000
DTEND;TZID=Asia/Tokyo:20250319T143000
DTSTAMP:20260420T074325
CREATED:20250217T095259Z
LAST-MODIFIED:20250529T063559Z
UID:18129-1742391000-1742394600@smile-port.jp
SUMMARY:子育てパートナーとおしゃべりしよう！
DESCRIPTION:お子さんのこと、ご自分のことなどいろいろとおしゃべりしてすっきりしませんか？
URL:https://smile-port.jp/calender/18129/
LOCATION:スマイル・ポート ひろば
CATEGORIES:スマイル・ポートのカレンダー
ATTACH;FMTTYPE=image/jpeg:https://smile-port.jp/v2/wp-content/uploads/2025/02/pg-partneroshaberi.jpg
END:VEVENT
BEGIN:VEVENT
DTSTART;VALUE=DATE:20250320
DTEND;VALUE=DATE:20250321
DTSTAMP:20260420T074325
CREATED:20250306T042948Z
LAST-MODIFIED:20250306T043031Z
UID:18385-1742428800-1742515199@smile-port.jp
SUMMARY:【祝日　春分の日】　休館日
DESCRIPTION:
URL:https://smile-port.jp/calender/18385/
CATEGORIES:スマイル・ポートのカレンダー,休館日,祝日
END:VEVENT
BEGIN:VEVENT
DTSTART;VALUE=DATE:20250321
DTEND;VALUE=DATE:20250322
DTSTAMP:20260420T074325
CREATED:20250318T122428Z
LAST-MODIFIED:20250318T122754Z
UID:18689-1742515200-1742601599@smile-port.jp
SUMMARY:Smile Multicultural day
DESCRIPTION:
URL:https://smile-port.jp/calender/18689/
CATEGORIES:スマイル・ポートのカレンダー
ATTACH;FMTTYPE=image/jpeg:https://smile-port.jp/v2/wp-content/uploads/2025/03/pg-smd.jpg
END:VEVENT
BEGIN:VEVENT
DTSTART;TZID=Asia/Tokyo:20250321T100000
DTEND;TZID=Asia/Tokyo:20250321T103000
DTSTAMP:20260420T074325
CREATED:20250217T094942Z
LAST-MODIFIED:20250318T131215Z
UID:18125-1742551200-1742553000@smile-port.jp
SUMMARY:★親子で英語リトミック①
DESCRIPTION:赤ちゃんから参加できる楽しいプログラムです。\nエレクトーンの生演奏に合わせて英語の歌を歌ったり、手遊びをしたりします。\n親子で動きますので動きやすい服装でご参加ください。\n推奨年齢は6か月～です。
URL:https://smile-port.jp/calender/18125/
LOCATION:スマイル・ポート ひろば
CATEGORIES:スマイル・ポートのカレンダー
ATTACH;FMTTYPE=image/jpeg:https://smile-port.jp/v2/wp-content/uploads/2025/02/pg-oyakodeeigo.jpg
END:VEVENT
BEGIN:VEVENT
DTSTART;TZID=Asia/Tokyo:20250321T140000
DTEND;TZID=Asia/Tokyo:20250321T143000
DTSTAMP:20260420T074325
CREATED:20250217T095042Z
LAST-MODIFIED:20250318T131200Z
UID:18127-1742565600-1742567400@smile-port.jp
SUMMARY:★親子で英語リトミック②
DESCRIPTION:赤ちゃんから参加できる楽しいプログラムです。\nエレクトーンの生演奏に合わせて英語の歌を歌ったり、手遊びをしたりします。\n親子で動きますので動きやすい服装でご参加ください。\n推奨年齢は6か月～です。
URL:https://smile-port.jp/calender/18127/
LOCATION:スマイル・ポート ひろば
CATEGORIES:スマイル・ポートのカレンダー
ATTACH;FMTTYPE=image/jpeg:https://smile-port.jp/v2/wp-content/uploads/2025/02/pg-oyakodeeigo.jpg
END:VEVENT
BEGIN:VEVENT
DTSTART;TZID=Asia/Tokyo:20250322T093000
DTEND;TZID=Asia/Tokyo:20250322T120000
DTSTAMP:20260420T074325
CREATED:20250213T073842Z
LAST-MODIFIED:20250318T131237Z
UID:18026-1742635800-1742644800@smile-port.jp
SUMMARY:先輩パパ吉本さんと遊ぼう！
DESCRIPTION:ボランティアの先輩パパがひろばに来てみんなと遊んでくれます！\n特にプログラムはありません。エプロンを着けてひろばにいますので、ぜひ声をかけてくださいね。
URL:https://smile-port.jp/calender/18026/
LOCATION:スマイル・ポート ひろば
CATEGORIES:スマイル・ポートのカレンダー
ATTACH;FMTTYPE=image/jpeg:https://smile-port.jp/v2/wp-content/uploads/2024/08/pg-yosimotosan.jpg
END:VEVENT
END:VCALENDAR