BEGIN:VCALENDAR
VERSION:2.0
PRODID:-//西区地域子育て支援拠点スマイル・ポート - ECPv6.11.2//NONSGML v1.0//EN
CALSCALE:GREGORIAN
METHOD:PUBLISH
X-WR-CALNAME:西区地域子育て支援拠点スマイル・ポート
X-ORIGINAL-URL:https://smile-port.jp
X-WR-CALDESC:西区地域子育て支援拠点スマイル・ポート のイベント
REFRESH-INTERVAL;VALUE=DURATION:PT1H
X-Robots-Tag:noindex
X-PUBLISHED-TTL:PT1H
BEGIN:VTIMEZONE
TZID:Asia/Tokyo
BEGIN:STANDARD
TZOFFSETFROM:+0900
TZOFFSETTO:+0900
TZNAME:JST
DTSTART:20250101T000000
END:STANDARD
END:VTIMEZONE
BEGIN:VEVENT
DTSTART;TZID=Asia/Tokyo:20250130T103000
DTEND;TZID=Asia/Tokyo:20250130T113000
DTSTAMP:20260420T110154
CREATED:20250202T210401Z
LAST-MODIFIED:20250426T041307Z
UID:17513-1738233000-1738236600@smile-port.jp
SUMMARY:図書館にいってみよう！
DESCRIPTION:「図書館はどんなところ？」「絵本の選び方は？」\nみんなで一緒に図書館へ行って詳しい説明を聞いてみよう！司書さんによる読み聞かせもあります。
URL:https://smile-port.jp/calender/17513/
CATEGORIES:スマイル・ポートのカレンダー
ATTACH;FMTTYPE=image/jpeg:https://smile-port.jp/v2/wp-content/uploads/2025/02/pg-toshoittemiyou-.jpg
END:VEVENT
BEGIN:VEVENT
DTSTART;TZID=Asia/Tokyo:20250130T133000
DTEND;TZID=Asia/Tokyo:20250130T150000
DTSTAMP:20260420T110154
CREATED:20250202T210721Z
LAST-MODIFIED:20250202T211731Z
UID:17517-1738243800-1738249200@smile-port.jp
SUMMARY:★わが家のライフプランを考えよう
DESCRIPTION:【西区役所生活支援課合同企画】\n家計の基本が知りたい、貯金がしたい、などのお金のことについて勉強や相談ができます。講師をお招きしますので聞きたいことをこの機会に聞いてみましょう。\nひろば・ZOOMが選べます。\n※同室見守り保育付き
URL:https://smile-port.jp/calender/17517/
CATEGORIES:スマイル・ポートのカレンダー
END:VEVENT
END:VCALENDAR